BEGIN:VCALENDAR
VERSION:2.0
PRODID:-//Scouts NSW - ECPv6.6.4.2//NONSGML v1.0//EN
CALSCALE:GREGORIAN
METHOD:PUBLISH
X-ORIGINAL-URL:https://nsw.scouts.com.au
X-WR-CALDESC:Events for Scouts NSW
REFRESH-INTERVAL;VALUE=DURATION:PT1H
X-Robots-Tag:noindex
X-PUBLISHED-TTL:PT1H
BEGIN:VTIMEZONE
TZID:Africa/Abidjan
BEGIN:STANDARD
TZOFFSETFROM:+0000
TZOFFSETTO:+0000
TZNAME:GMT
DTSTART:20230101T000000
END:STANDARD
END:VTIMEZONE
BEGIN:VEVENT
DTSTART;VALUE=DATE:20231118
DTEND;VALUE=DATE:20231120
DTSTAMP:20260423T201516
CREATED:20220906T041754Z
LAST-MODIFIED:20230420T035405Z
UID:260102-1700272800-1700438399@nsw.scouts.com.au
SUMMARY:Region Commissioners' Forum (RCF)
DESCRIPTION:Region Commissioners’ Forum (RCF)
URL:https://nsw.scouts.com.au/event/region-commissioners-forum-rcf-3/
CATEGORIES:Meetings
END:VEVENT
END:VCALENDAR