BEGIN:VCALENDAR
VERSION:2.0
PRODID:-//Scouts NSW - ECPv6.6.4.2//NONSGML v1.0//EN
CALSCALE:GREGORIAN
METHOD:PUBLISH
X-WR-CALNAME:Scouts NSW
X-ORIGINAL-URL:https://nsw.scouts.com.au
X-WR-CALDESC:Events for Scouts NSW
REFRESH-INTERVAL;VALUE=DURATION:PT1H
X-Robots-Tag:noindex
X-PUBLISHED-TTL:PT1H
BEGIN:VTIMEZONE
TZID:Australia/Sydney
BEGIN:STANDARD
TZOFFSETFROM:+1100
TZOFFSETTO:+1000
TZNAME:AEST
DTSTART:20240406T160000
END:STANDARD
BEGIN:DAYLIGHT
TZOFFSETFROM:+1000
TZOFFSETTO:+1100
TZNAME:AEDT
DTSTART:20241005T160000
END:DAYLIGHT
END:VTIMEZONE
BEGIN:VEVENT
DTSTART;TZID=Australia/Sydney:20240503T200000
DTEND;TZID=Australia/Sydney:20240505T200000
DTSTAMP:20260422T184047
CREATED:20240326T102049Z
LAST-MODIFIED:20240930T033801Z
UID:293987-1714766400-1714939200@nsw.scouts.com.au
SUMMARY:ScoutHike
DESCRIPTION:ScoutHike is celebrating 30 years in 2024 and is Sydney North Region’s premier annual Scout section event. If you are interested in an exciting weekend of lightweight hiking around a NSW State Forest – then this is the event you must register for! \nWe are super-excited to run this fantastic event and can’t wait to have the forest full of Scouts and leaders eager for a challenging adventure! Dust off those packs and hiking boots and start thinking about your teams. \nThe theme for the event is “Tour of the Eras”. Scouts will have the opportunity to spend the weekend completing 29 different activity bases spread across the forest. \nLearn more – https://sydneynorthscouts.com/sections/scouts/scouthike/
URL:https://nsw.scouts.com.au/event/scouthike/
CATEGORIES:Major Events,Scout Events,Venturer Events
END:VEVENT
BEGIN:VEVENT
DTSTART;VALUE=DATE:20240504
DTEND;VALUE=DATE:20240506
DTSTAMP:20260422T184047
CREATED:20231107T011806Z
LAST-MODIFIED:20231211T042145Z
UID:293359-1714788000-1714953599@nsw.scouts.com.au
SUMMARY:Scouting Essentials (All Leaders & Rovers) - Tamworth Hillvue Scout Hall
DESCRIPTION:Closing date: 5-Apr-24 \nCost: $110 residential and self-catered \nThe Scouting Essentials training is a hands on weekend where participants can apply skills learned from the On Demand Training in a facilitated environment. Scouting Essentials is the first step on your pathway to a Certificate of Proficiency. \nIf you have completed a Basic Training course within the last 3 years\, you don’t have to now complete Scouting Essentials but do stay up to date with changes to the youth program. \nYou must complete the following pre-requisites BEFORE APPLYING FOR THE COURSE: \n\nIndividual Adult Volunteer Plan (IAVP) Phase 1 (IAVP Phase 1 form can be found here)\nScouting Preliminary On Demand Training\nScouting Essentials On Demand Training\nAccess to a copy of the New Program Handbook (available from the Scout Shop when signed in as a Scout member)\n\nTo apply\, please click the link below. \n Course numbers are limited. Applications will be accepted in order received\, with preference given to those applicants having completed the pre-requisite above.  \nCourse fees will be charged on enrolment to this course and please be aware that the course cancelation policy listed below applies. \nPlease contact Training with any questions –\nPhone: (02) 9735 9000\nEmail: training@nsw.scouts.com.au \nThe following cancelation policy is applicable to this training; \n\nWithdrawal before the Closing Date – Full refund\nWithdrawal after the closing date of the course – less $20 charge\nWithdrawal less than 5 days before the course – No refund \n\n(Exceptional circumstances will be considered by your RCATD) \nIMPORTANT INFORMATION \n\nApplications must be received before the closing date advertised in the Training Calendar.\nAll prerequisites must be completed before applying and before the closing date.\nYour basic information may be shared with the Department of Communities and Justice for the purpose of grant reporting.\n\n Click here to apply
URL:https://nsw.scouts.com.au/event/scouting-essentials-all-leaders-rovers-tamworth-hillvue-scout-hall/
LOCATION:Tamworth Hillvue Scout Hall\, Hillvue Rd\, Tamworth\, NSW\, 2340\, Australia
CATEGORIES:Training
ATTACH;FMTTYPE=image/jpeg:https://nsw.scouts.com.au/wp-content/uploads/2022/11/Scouting-Essentials-sized-for-the-calendar.jpg
ORGANIZER;CN="Scouts NSW Training Team":MAILTO:training@nsw.scouts.com.au
END:VEVENT
BEGIN:VEVENT
DTSTART;VALUE=DATE:20240504
DTEND;VALUE=DATE:20240506
DTSTAMP:20260422T184047
CREATED:20231107T012443Z
LAST-MODIFIED:20231107T012443Z
UID:293361-1714788000-1714953599@nsw.scouts.com.au
SUMMARY:Scouting Essentials (All Leaders & Rovers) - Heathcote Scout Camp
DESCRIPTION:Closing date: 5-Apr-24 \nCost: $160 residential \nThe Scouting Essentials training is a hands on weekend where participants can apply skills learned from the On Demand Training in a facilitated environment. Scouting Essentials is the first step on your pathway to a Certificate of Proficiency. \nIf you have completed a Basic Training course within the last 3 years\, you don’t have to now complete Scouting Essentials but do stay up to date with changes to the youth program. \nYou must complete the following pre-requisites BEFORE APPLYING FOR THE COURSE: \n\nIndividual Adult Volunteer Plan (IAVP) Phase 1 (IAVP Phase 1 form can be found here)\nScouting Preliminary On Demand Training\nScouting Essentials On Demand Training\nAccess to a copy of the New Program Handbook (available from the Scout Shop when signed in as a Scout member)\nProficient with Microsoft Teams (Online courses only)\nAccess to a computer with camera and microphone (Online courses only)\nWillingness to download the Microsoft team application to the above device (Online courses only)\n\nTo apply\, please click the link below. \n Course numbers are limited. Applications will be accepted in order received\, with preference given to those applicants having completed the pre-requisite above.  \nCourse fees will be charged on enrolment to this course and please be aware that the course cancelation policy listed below applies. \nPlease contact Training with any questions –\nPhone: (02) 9735 9000\nEmail: training@nsw.scouts.com.au \nThe following cancelation policy is applicable to this training; \n\nWithdrawal before the Closing Date – Full refund\nWithdrawal after the closing date of the course – less $20 charge\nWithdrawal less than 5 days before the course – No refund \n\n(Exceptional circumstances will be considered by your RCATD) \nIMPORTANT INFORMATION \n\nApplications must be received before the closing date advertised in the Training Calendar.\nAll prerequisites must be completed before applying and before the closing date.\nYour basic information may be shared with the Department of Communities and Justice for the purpose of grant reporting.\n\n Click here to apply
URL:https://nsw.scouts.com.au/event/scouting-essentials-all-leaders-rovers-heathcote-scout-camp/
LOCATION:Heathcote Scout Camp\, 2 Freeman Road\, Heathcote\, NSW\, 2233\, Australia
CATEGORIES:Training
ATTACH;FMTTYPE=image/jpeg:https://nsw.scouts.com.au/wp-content/uploads/2022/11/Scouting-Essentials-sized-for-the-calendar.jpg
ORGANIZER;CN="Scouts NSW Training Team":MAILTO:training@nsw.scouts.com.au
END:VEVENT
BEGIN:VEVENT
DTSTART;VALUE=DATE:20240504
DTEND;VALUE=DATE:20240506
DTSTAMP:20260422T184047
CREATED:20231108T005655Z
LAST-MODIFIED:20240404T031741Z
UID:293395-1714788000-1714953599@nsw.scouts.com.au
SUMMARY:Scouting Adventure (all Youth Program Leaders including Rover Scouts) - Lynchwood Scout Camp\, Tamworth
DESCRIPTION:Closing date: 5-Apr-24 \nCost: $90 Residential and self-catered \nNote: Overnight stay in your own hike tent is a requirement of this course. \nThis course is the Scouting Adventure course that is required for all Youth Program Leader and Rover Scouts (for personal development) to complete their Certificate of Proficiency Youth Program Leader. If you are planning on becoming a Rover Unit Leader or Rover Advisor\, you should complete the Program Support Leader pathway. \nIf you have completed a Basic Outdoor Skills (BOS) or equivalent\, you don’t have to complete Scouting Adventure but do stay up to date with changes to the youth program. \nYou must complete the following pre-requisites BEFORE APPLYING FOR THE COURSE: \n\nIndividual Adult Volunteer Plan (IAVP) Phase 1 Youth Program Leader if you are currently a Program Support Leader changing training pathways (The form can be found here)\nScouting Essentials Practical Course (or equivalent)\nScouting Adventure On Demand Training modules (previously known as e-Basic Outdoor Skills)\n\nThis course is a self-catering course. Leaders will also need to bring their own hike (light weight) tent and all equipment required for a hike. Please note that you will not be hiking with all your equipment\, only a day pack. \nTo apply\, please click the link below. \nIf you have experience in camping and bushwalking\, including day walks\, you could consider completing this via our Recognition of Proficiency (ROP) process. \nTo apply for a ROP workbook\, you need to have completed the Scouting Adventure On Demand Training modules and complete the application here. The cost of the ROP is $45. \nCourse numbers are limited. Applications will be accepted in order received with preference given to those applicants having completed the pre-requisite above.  \nCourse fees will be charged on enrolment to this course and please be aware that the course cancelation policy listed below applies. \nPlease contact training with any questions –\nPhone: (02) 9735 9000\nEmail: training@nsw.scouts.com.au \nThe following cancelation policy is applicable to this training; \n\nWithdrawal before the Closing Date – Full refund\nWithdrawal after the closing date of the course – less $20 charge\nWithdrawal less than 5 days before the course – No refund \n\n(Exceptional circumstances will be considered by your RCATD) \nIMPORTANT INFORMATION \n\nApplications must be received before the closing date advertised in the Training Calendar.\nAll prerequisites must be completed before applying and before the closing date.\nYour basic information may be shared with the Department of Communities and Justice for the purpose of grant reporting.\n\n Click here to apply
URL:https://nsw.scouts.com.au/event/scouting-adventure-all-youth-program-leaders-including-rover-scouts-lynchwood-scout-camp-tamworth/
LOCATION:Lynchwood Scout Camp\, 2211 Upper Moore Creek Road Upper Moore Creek\, TAMWORTH\, NSW\, 2340\, Australia
CATEGORIES:Training
ATTACH;FMTTYPE=image/jpeg:https://nsw.scouts.com.au/wp-content/uploads/2022/11/Scouting-Adventure-Sized-for-the-calendar.jpg
ORGANIZER;CN="Scouts NSW Training Team":MAILTO:training@nsw.scouts.com.au
END:VEVENT
END:VCALENDAR