BEGIN:VCALENDAR
VERSION:2.0
PRODID:-//Scouts NSW - ECPv6.6.4.2//NONSGML v1.0//EN
CALSCALE:GREGORIAN
METHOD:PUBLISH
X-ORIGINAL-URL:https://nsw.scouts.com.au
X-WR-CALDESC:Events for Scouts NSW
REFRESH-INTERVAL;VALUE=DURATION:PT1H
X-Robots-Tag:noindex
X-PUBLISHED-TTL:PT1H
BEGIN:VTIMEZONE
TZID:Australia/Sydney
BEGIN:STANDARD
TZOFFSETFROM:+1100
TZOFFSETTO:+1000
TZNAME:AEST
DTSTART:20230401T160000
END:STANDARD
BEGIN:DAYLIGHT
TZOFFSETFROM:+1000
TZOFFSETTO:+1100
TZNAME:AEDT
DTSTART:20230930T160000
END:DAYLIGHT
BEGIN:STANDARD
TZOFFSETFROM:+1100
TZOFFSETTO:+1000
TZNAME:AEST
DTSTART:20240406T160000
END:STANDARD
BEGIN:DAYLIGHT
TZOFFSETFROM:+1000
TZOFFSETTO:+1100
TZNAME:AEDT
DTSTART:20241005T160000
END:DAYLIGHT
BEGIN:STANDARD
TZOFFSETFROM:+1100
TZOFFSETTO:+1000
TZNAME:AEST
DTSTART:20250405T160000
END:STANDARD
BEGIN:DAYLIGHT
TZOFFSETFROM:+1000
TZOFFSETTO:+1100
TZNAME:AEDT
DTSTART:20251004T160000
END:DAYLIGHT
BEGIN:STANDARD
TZOFFSETFROM:+1100
TZOFFSETTO:+1000
TZNAME:AEST
DTSTART:20260404T160000
END:STANDARD
BEGIN:DAYLIGHT
TZOFFSETFROM:+1000
TZOFFSETTO:+1100
TZNAME:AEDT
DTSTART:20261003T160000
END:DAYLIGHT
END:VTIMEZONE
BEGIN:VEVENT
DTSTART;VALUE=DATE:20260320
DTEND;VALUE=DATE:20260324
DTSTAMP:20260424T010219
CREATED:20251026T221925Z
LAST-MODIFIED:20251027T043801Z
UID:295587-1773972000-1774231199@nsw.scouts.com.au
SUMMARY:Sirius Cup Regatta
DESCRIPTION:The Sirius Cup Regatta is a chance for Scouts\, Venturers and Leaders to get together with other Scouts at a camp based primarily around water activities. \nThe Scout Groups camp on Balmoral Oval\, just a hop\, skip and a jump from the waters of Middle Harbour as a tent city comes to life from Friday afternoon. \nOver the weekend the following events will be held: 5 divisions of sailing races\, canoeing races for Cub Scouts\, Scouts\, Venturers\, Rovers and Leaders\, rowing events\, iron man events for all-comers and activities for the land lubbers \nFor more information\, visit http://siriuscup.x10host.com/page2.html
URL:https://nsw.scouts.com.au/event/sirius-cup-regatta-2/
LOCATION:Balmoral Oval\, Mosman. Middle Harbour.\, 42 Plunkett Rd\, Mosman\, NSW\, 2088\, Australia
CATEGORIES:Cub Events,Major Events,Rover Events,Scout Events,Venturer Events
ORGANIZER;CN="snr.siriuscup@nsw.scouts.com.com.au":MAILTO:snr.siriuscup@nsw.scouts.com.com.au
END:VEVENT
BEGIN:VEVENT
DTSTART;VALUE=DATE:20251031
DTEND;VALUE=DATE:20251104
DTSTAMP:20260424T010219
CREATED:20251026T221953Z
LAST-MODIFIED:20251026T235617Z
UID:295596-1761876000-1762135199@nsw.scouts.com.au
SUMMARY:H&C Region Cuboree
DESCRIPTION:This year\, the Hunter & Coastal Region Cuboree is bringing a Halloween themed camp to the Dungog Showground. Cubs are invited to join a weekend-long “scare fest” where they will actively participate in a variety of fantastic activities. These activities include ghost hunting\, escape rooms and much more. It’s an event not to be missed for any Cub looking for excitement\, some new skills and new friends!
URL:https://nsw.scouts.com.au/event/hc-region-cuboree/
LOCATION:Dungog Showground\, Abelard St\, Dungog\, NSW\, 2420\, Australia
CATEGORIES:Cub Events
END:VEVENT
BEGIN:VEVENT
DTSTART;VALUE=DATE:20251017
DTEND;VALUE=DATE:20251020
DTSTAMP:20260424T010219
CREATED:20250709T224312Z
LAST-MODIFIED:20250709T224312Z
UID:295083-1760666400-1760918399@nsw.scouts.com.au
SUMMARY:JOTA JOTI Weekend
DESCRIPTION:Each year\, Scouts around the world gather online and on the airwaves to connect for the JOTA JOTI. \nJOTA (Jamboree on the air) and JOTI (Jamboree on the internet) builds connection and togetherness whilst providing fun activities and new experiences. \nAcross NSW\, multiple events are held involving amateur radio\, foxhunting (the radio kind)\, camping\, bushcraft\, and lots more. \nStay tuned for individual events and activities as they are announced!
URL:https://nsw.scouts.com.au/event/jota-joti-weekend/
LOCATION:NSW
CATEGORIES:Activity Days,Cub Events,Joey Events,Major Events,Rover Events,Scout Events,Special Days,Venturer Events
END:VEVENT
BEGIN:VEVENT
DTSTART;VALUE=DATE:20250927
DTEND;VALUE=DATE:20251005
DTSTAMP:20260424T010219
CREATED:20250709T223753Z
LAST-MODIFIED:20250709T223753Z
UID:295079-1758938400-1759622399@nsw.scouts.com.au
SUMMARY:Lights\, Camera\, Action! TGW Region Camp
DESCRIPTION:For the first time in many years\, a Region Camp for the Golden West is ON! And it is heading to Broken Hill. \nLights\, Camera\, Action! is an all-sections week-long camp being held in the beautiful outback town of Broken Hill. It is being held from 27th September through to 4th October. There will be different sections starting at different times – Scouts\, Venturers and Rover (participants) will start their journey on 27th September and Joeys and Cubs will start their journey 29th September. \nThe week long camp will showcase the best of Regional NSW\, with plenty of activities and fun. Think classics like camping\, canoeing\, mountain biking\, and exploring\, as well as camel rides\, town tours\, fossicking\, and so much more! \nFor more information\, visit https://www.facebook.com/share/v/16ZFrECm5A/. \n  \n 
URL:https://nsw.scouts.com.au/event/lights-camera-action-tgw-region-camp/
LOCATION:Broken Hill
CATEGORIES:Cub Events,Joey Events,Major Events,Rover Events,Scout Events,Venturer Events
ATTACH;FMTTYPE=image/png:https://nsw.scouts.com.au/wp-content/uploads/2025/07/Lights_Camera_Action_1.png
END:VEVENT
BEGIN:VEVENT
DTSTART;TZID=Australia/Sydney:20241018T160000
DTEND;TZID=Australia/Sydney:20241020T150000
DTSTAMP:20260424T010219
CREATED:20241004T000755Z
LAST-MODIFIED:20241004T001243Z
UID:294613-1729267200-1729436400@nsw.scouts.com.au
SUMMARY:JOTAJOTI Weekend
DESCRIPTION:There are camps and single day activities all around the state this weekend! \nFind out more information by clicking the individual links below. \n  \nCamps\nBoree Regatta – incl JOTA\nSouth Metropolitan Region\nEvent Details \nWhen: Fri 18th Oct 2024 (3pm) to Sun 20th Oct 2024 (4pm)\nWhere: Bonna Point\, western end of Prince Charles Parade Kurnell\nRegister: https://events.nsw.scouts.com.au/event/1894 \nBrief Summary: \nBoree Regatta is a fun weekend for both Girl Guides (from Southern Sydney Rivers Region) and Scouts (from the South Metropolitan Region) to participate in both water and land activities at Bonna Pt Kurnell.\nThe weekend is open to all age groups to particpate in exciting and entertaining activities. Pre Junior Guides and Joey Scouts events run on Saturday from 10am to 4pm. \nUnits can particpate in competition events to win prizes and trophies. \nOur theme this year is SPACE.! Come dressed in your space theme\, decorate your rafts and campsites and enjoy an experience that is out of the this world. \nThis event also incorporates JOTA (Jamboree of the air) your unit can book in to experience this international Scouting event. \nHumeoree – incl JOTA\nHume Region\nEvent Details \nWhen: Sat 19th Oct 2024 (8am) to Sun 20th Oct 2024 (3pm)\nWhere: Glenfield Scout Activity Centre\, 2 Cambridge Ave\, Glenfield NSW 2167\, Australia\nRegister: https://events.nsw.scouts.com.au/event/1896 \nBrief Summary: \nHumeoree is an all section event. Joeys will be Sunday only and all other sections are Saturday till Sunday. This event is in conjunction with JOTA ( Jamboree on the Air )\nHumeoree\, this event is in conjunction with JOTA ( Jamboree on the Air ) & open to all sections within Hume Region. \nGarigal and Northern Beaches Districts JOTA/JOTI Camp 2024\nSydney North Region\nEvent Details \nWhen: Fri 18th Oct 2024 (6pm) to Sun 20th Oct 2024 (2pm)\nWhere: Terrey Hills Public School\, Cooyong Road\, Terrey Terrey Hills\, NSW 2084Australia\nRegister: https://events.nsw.scouts.com.au/event/1887 \nBrief Summary: \nScouts will camp with their Units and be self sufficient over the weekend. Scouts will bring their own food\, tents\, camping equipment and will need to take their rubbish with them. There will be a number on on site (JOTI\, electronics and free time) and off site activities (visits to the Manly Warringah Radio Club and Terrey Hills RFS Station) Scouts and Leaders will walk together to the radio base in Belton Ave & the RFS Station in Yulong Ave. \nNorthern Rivers – JOTA/JOTI Murwillumbah\nNorth Coast Region\nEvent Details \nWhen: Fri 18th Oct 2024 (5pm) to Sun 20th Oct 2024 (2pm)\nWhere: Loughman Farm\, 300 Upper Crystal Creek Rd\, Murwillumbah\nRegister: https://events.nsw.scouts.com.au/event/1251 \nBrief Summary: \nJOTA/JOTI is an international Scout event\, run annually – https://www.jotajoti.info Over the years\, this event has evolved on the Northern Rivers to be a major camp – which in addition to amateur radios\, and internet chat sessions includes a variety of fun activities – most notably a 50m water slide! \nJOTAJOTI Activity Days\nOrama District – JOTA/JOTI Port Macquarie\nNorth Coast Region\nEvent Details \nWhen: Sat 19th Oct 2024 (1pm to 5pm)\nWhere: 1st Port Macquarie Scout Hall\nRegister: https://events.nsw.scouts.com.au/event/1252 \nBrief Summary: \nJOTA /JOTI – at 1st Port Macquarie Sea Scout Hall\, 9 Buller Street\, enjoy an afternoon of fun activities and talking to Scouts from all over the world. There will be a BBQ running late in the event. The cost will be minimal to cover costs of the food and drinks not to make a profit from. All family members are welcome and are encouraged to attend the event. Everyone must be registered to attend. \nGWS JOTA 2024 Cubs\, Joeys\, Pre-Jnr & Jnr Guides at Glenbrook\nGWS Region\nEvent Details \nWhen: Sun 20th Oct 2024 (9am to 4pm)\nWhere: BMARC Club Room\, 4 Moore St Glenbrook\nRegister: https://events.nsw.scouts.com.au/event/1875 \nBrief Summary: \nJOTA 2024 for Cubs\, Joeys\, Pre-Junior & Junior Guides at the Blue Mountains Amateur Radio Club (BMARC) rooms\, 4 Moore Street Glenbrook. Two sessions will be held during the day – [Session 1: 9am-12:30pm – SOLD OUT] OR Session 2: 12:30pm-4pm – spaces are limited for each session. Parents and Leaders accompanying youth\, must also register themselves on EMS. \nWhat is JOTA? For decades\, the annual Jamboree On The Air (JOTA) has brought together millions of Scouts and Guides around the world to connect through radio while building friendships\, learning new skills\, and discovering the international dimensions of Scouting/Guiding.\nThis GWS JOTA is being organised by Blue Mountains Scout Fellowship specifically for Cubs\, Joeys and Pre-Junior/Junior Guides and will be hosted by the Blue Mountains Amateur Radio Club (BMARC)\, who will provide the equipment and expertise for the youth to experience Amateur Radio. \nPanania Jota/Joti base\nSouth Met Region\nFor 2024 operating callsign VK2SCH\noperating both Saturday 19/10 and Sunday 20/10 from 10am .\ndoing Joti and on Radio operating HF mostly 40m & 80m\, EchoLink\, 2m and also running all day zoom meetings\nMichael Turner VK2WMT \nPort Stephens District JOTA Activity Day\nNorth Coast Region\nPort Stephens District\, 1st Tilligerry Scout Hall\, Tanilba Bay NSW 2319 \nPort Stephens Amateur Radio Club – VK2DLP will operate their JOTA site from 1st Tilligerry Scout Hall\, Tanilba Bay\, NSW for the Joeys\, Cubs\, Scouts and Venturers of the Port Stephens District. Port Stephens District comprises Scout Groups from Anna Bay\, Clarenece Town\, Medowie\, Nelson Bay\, Raymond Terrace\, Seaham and the Tilligerry Penisula (Lemon tree Passage and Tanilba Bay) \nPort Stephens District is utilising the Port Stephens Amateur Radio Club (John Proctor VK2DLP-Secretary PSAMRC) in the provisions of amateur radio operators and equipment for our 2024 JOTA/JOTI weekend at 1st Tilligerry Scout Hall Tanilba Bay.\nWe will be holding day sessions between 10:00 and 15:00 Saturday and Sunday for those wishing to attend. \nHunter Valley JOTA/JOTI\nHunter & Coastal Region\nDetails TBC \nCentral Coast Lakes District JOTAJOTI Activity Day\nHunter & Coastal Region\nTuggerah Lakes Scout Hall \nActivity location: Tuggerah Lakes Hall – Nirvana Street Long Jetty\nSaturday: 8am > 11pm\nSunday: 8am > 3pm\nOver the weekend we will be partaking in:\nHF\, VHF\, and UHF Amateur radio communications\, as conditions permit\nFoxhunting (Amateur Radio Direction Finding) in the park behind the hall\nMorse Code practice with Arduino’s\nMultiple Skype rooms with Projectors and webcams\nRoom1: live:.cid.69f61fa2c2788f96\nRoom2: live:.cid.78b1263efd2832f7
URL:https://nsw.scouts.com.au/event/jotajoti-weekend/
LOCATION:NSW
CATEGORIES:Activity Days,Cub Events,Joey Events,Major Events,Rover Events,Scout Events,Venturer Events
ATTACH;FMTTYPE=image/png:https://nsw.scouts.com.au/wp-content/uploads/2024/10/jota2024-e1728000753541.png
END:VEVENT
BEGIN:VEVENT
DTSTART;TZID=Australia/Sydney:20240607T180000
DTEND;TZID=Australia/Sydney:20240610T150000
DTSTAMP:20260424T010219
CREATED:20240529T040356Z
LAST-MODIFIED:20240930T033541Z
UID:294159-1717783200-1718031600@nsw.scouts.com.au
SUMMARY:South Met Region Gathering
DESCRIPTION:Region Gathering is a three yearly event; open to all South Metropolitan Region Sections\, including Joeys\, Cubs\, Scouts\, Venturers\, Rovers\, Leaders\, & Parent Helpers as required. This Region Gathering will NOT be open to other Regions\, although we will be sharing Cataract with GWS (Greater Western Sydney Region) and will be running our own activities on our designated sub-camp sites. \nFor more information\, visit https://events.nsw.scouts.com.au/event/1070
URL:https://nsw.scouts.com.au/event/south-met-region-gathering/
LOCATION:Cataract Activity Centre\, Baden-Powell Drive\, Appin\, New South Wales\, 2560\, Australia
CATEGORIES:Cub Events,Joey Events,Rover Events,Scout Events,Venturer Events
END:VEVENT
BEGIN:VEVENT
DTSTART;VALUE=DATE:20240414
DTEND;VALUE=DATE:20240420
DTSTAMP:20260424T010219
CREATED:20231026T232225Z
LAST-MODIFIED:20231026T233025Z
UID:293200-1713060000-1713571199@nsw.scouts.com.au
SUMMARY:GG's Camp 2024
DESCRIPTION:A once-in-a-lifetime experience\, open to all age sections from Joey Scouts to Rover Scouts. Camp on the grounds of Government House\, Canberra\, and embark on an action-packed program of adventure. \n \nGG’s Camp 2024 is a once in a lifetime opportunity\, bringing together everyone from Joey Scouts to Rover Scouts to participate in adventurous\, fun\, challenging and inclusive activities linked to Milestones\, Outdoor Adventure Skills and Special Interest Areas. \nBringing our vision to life\, all participants from Joey Scouts to Rover Scouts will camp together in Units\, supported by adult Leaders. Units will camp together\, eat together\, and support wellbeing together. \nThe Camp will be held Sunday 14th April to Friday 19th April 2024 at Government House Canberra. Activities will be held across the Australian Capital Territory. \nApplications to attend GG’s Camp 2024 have been extended and will close end of the year 2023. \nJoey Scouts and Cub Scouts will be invited to arrive on Tuesday 16 April and depart Friday 19 April 2024. \nScouts\, Venturer Scouts and Rover Scouts will attend for the full duration of the Camp. \nFor more information and to register\, visit https://scouts.com.au/event/ggcamp2023/
URL:https://nsw.scouts.com.au/event/ggs-camp-2024/
LOCATION:Government House\, Canberra
CATEGORIES:Cub Events,Joey Events,Major Events,Rover Events,Scout Events,Venturer Events
END:VEVENT
BEGIN:VEVENT
DTSTART;VALUE=DATE:20240322
DTEND;VALUE=DATE:20240325
DTSTAMP:20260424T010219
CREATED:20231122T230104Z
LAST-MODIFIED:20240930T033100Z
UID:293591-1711072800-1711324799@nsw.scouts.com.au
SUMMARY:RASOREE - North Coast Region All Section Camp
DESCRIPTION:Rasoree is a two-night camp for all sections where you can have some fun and adventure completing lots of exciting activities and meeting youth members from all over North Coast Region.\nThe camp will have many different activities for Joeys through to Rovers. \nSaturday will offer a range of activities for Joeys through to Rovers. You could be tackling the climbing wall\, racing billy karts around the Eagle Eye Track\, shooting your friends in archery tag\, staying cool in the splash zone and many more exciting activities. \nSaturday night will be the inaugural North Coast Scouts Got Talent followed by a disco. \nSunday morning will be markets\, badge swapping\, and a colour run.
URL:https://nsw.scouts.com.au/event/rasoree-north-coast-region-all-section-camp/
LOCATION:Camp Eagle Eye\, 2080 Orara Way\, Glenreagh\, NSW\, 2450\, Australia
CATEGORIES:Activity Days,Cub Events,Joey Events,Rover Events,Scout Events,Venturer Events
END:VEVENT
BEGIN:VEVENT
DTSTART;TZID=Australia/Sydney:20240310T090000
DTEND;TZID=Australia/Sydney:20240310T160000
DTSTAMP:20260424T010219
CREATED:20231122T225740Z
LAST-MODIFIED:20240930T033549Z
UID:293581-1710061200-1710086400@nsw.scouts.com.au
SUMMARY:Orama Cub Personal Development Leadership Course
DESCRIPTION:The Cub Scout Leadership Course offers interested Cub Scouts an opportunity to meet new people and develop their own communication\, teamwork and leadership skills.\nThe course will be targeted at Cub Scouts working on Milestone 2 and 3 – if numbers exceed the nominal limit\, preference may be given based on age. \nWe will be completing a number of activities on the day\, with the intent that some of these will be outside. Please come prepared to be outside\, potentially in the weather\, and bring a day pack with items you would need for the day\, including snacks\, lunch and water. \nCub Scouts should also bring their Unit Code with them.
URL:https://nsw.scouts.com.au/event/orama-cub-personal-development-leadership-course/
LOCATION:Kempsey Scout Hall\, 103 Tozer Street\, Kempsey\, NSW\, 2440\, Australia
CATEGORIES:Cub Events,Training
END:VEVENT
BEGIN:VEVENT
DTSTART;VALUE=DATE:20240303
DTEND;VALUE=DATE:20240304
DTSTAMP:20260424T010219
CREATED:20231122T225640Z
LAST-MODIFIED:20240930T033834Z
UID:293574-1709431200-1709510399@nsw.scouts.com.au
SUMMARY:Orama District All Sections Fun Day
DESCRIPTION:Stoney Aqua Park is located at Telegraph Point in New South Wales Australia – at 16 Hacks Ferry Road Telegraph Point. The park covers a huge area and boasts a wide array of inflatable fun items for everyone’s enjoyment\, suitable for ages from 7 all the way up to the elderly.\nThe Aqua Park is based on a man made lake sourced from a fresh rain water catchment. This allows Stoney Aqua Park to maintain a safe and controlled environment. No sharks\, guaranteed!! \nSlides\, blast bags\, trampolines\, swings\, challenge tracks\, balance beams\, wobble pads and chill out areas are just a few of the many and varied features enclosed within the extensive walkways and floating tracks of the course. \nOn shore we have extensive shade structures\, BBQ areas that require $2 coins to operate\, change rooms\, picnic benches and sun loungers. A kiosk is provided for your convenience and comfort under the natural shaded environment and white sandy lake front. \nStoney Aqua Park will welcome you for the day or just for a few hours. If you have a party or celebration of any sort we offer a great option for groups large or small.
URL:https://nsw.scouts.com.au/event/orama-district-all-sections-fun-day/
LOCATION:Stoney Creek Aqua Park
CATEGORIES:Activity Days,Cub Events,Joey Events,Rover Events,Scout Events,Special Days,Venturer Events
END:VEVENT
BEGIN:VEVENT
DTSTART;VALUE=DATE:20240303
DTEND;VALUE=DATE:20240304
DTSTAMP:20260424T010219
CREATED:20231122T225542Z
LAST-MODIFIED:20240930T033206Z
UID:293573-1709431200-1709510399@nsw.scouts.com.au
SUMMARY:The Golden West Region - Cub Scout Fun Day
DESCRIPTION:
URL:https://nsw.scouts.com.au/event/the-golden-west-region-cub-scout-fun-day/
LOCATION:Camp Canobolas\, 166 Lake Canobolas Road\, Orange\, NSW\, 2800\, Australia
CATEGORIES:Activity Days,Cub Events
END:VEVENT
BEGIN:VEVENT
DTSTART;TZID=Australia/Sydney:20240223T170000
DTEND;TZID=Australia/Sydney:20240225T150000
DTSTAMP:20260424T010219
CREATED:20231122T225440Z
LAST-MODIFIED:20240930T033307Z
UID:293564-1708707600-1708873200@nsw.scouts.com.au
SUMMARY:Sydney North - Region Cub Camp
DESCRIPTION:This camp is for the Cubs and Cub Leaders in Sydney North Region.\nCosting for youth members is $70.00 \nCosting for leaders is $30.00
URL:https://nsw.scouts.com.au/event/sydney-north-region-cub-camp/
LOCATION:Camp Ku-ring-gai\, Holmes Drive\, Cumberland Reach\, NSW\, 2756\, Australia
CATEGORIES:Activity Days,Cub Events
END:VEVENT
BEGIN:VEVENT
DTSTART;VALUE=DATE:20240117
DTEND;VALUE=DATE:20240122
DTSTAMP:20260424T010219
CREATED:20231122T225142Z
LAST-MODIFIED:20240930T033418Z
UID:293552-1705456800-1705881599@nsw.scouts.com.au
SUMMARY:Hunter and Coastal Region: Corroboree 2024
DESCRIPTION:The Hunter and Coastal Region Corroboree 2024 is a five day Scout camp which will be held at Stroud in the Hunter Valley from the17th to 21st January 2024\, during the school holidays. \nThis fantastic five day camp is full of fun\, challenging bases and exciting commercial activites\, as well as a\nBivouac overnight hike\, where Scouts will bring a day pack\, small tarp and poles to sleep in their Hutchie\,\nwhich your Scout Leader can explain more about.
URL:https://nsw.scouts.com.au/event/hunter-and-coastal-region-corroboree-2024/
LOCATION:Stroud Showground
CATEGORIES:Activity Days,Cub Events,Major Events,Rover Events,Scout Events,Venturer Events
END:VEVENT
BEGIN:VEVENT
DTSTART;VALUE=DATE:20240114
DTEND;VALUE=DATE:20240115
DTSTAMP:20260424T010219
CREATED:20231122T225141Z
LAST-MODIFIED:20240930T033435Z
UID:293551-1705197600-1705276799@nsw.scouts.com.au
SUMMARY:South Metropolitan Region - All levels Mountain Biking at Mt Annan Botanical Garden
DESCRIPTION:All levels MTB at Mt Annan Botanical Garden
URL:https://nsw.scouts.com.au/event/south-metropolitan-region-all-levels-mountain-biking-at-mt-annan-botanical-garden/
LOCATION:Mt Annan Botanic Gardens
CATEGORIES:Activity Days,Cub Events,Joey Events,Rover Events,Scout Events,Venturer Events
END:VEVENT
BEGIN:VEVENT
DTSTART;VALUE=DATE:20230929
DTEND;VALUE=DATE:20231004
DTSTAMP:20260424T010219
CREATED:20221102T000747Z
LAST-MODIFIED:20221102T000747Z
UID:266615-1695952800-1696377599@nsw.scouts.com.au
SUMMARY:Cuboree 2023
DESCRIPTION:Cuboree 2023
URL:https://nsw.scouts.com.au/event/cuboree-2023/
LOCATION:Cataract Activity Centre\, Baden-Powell Drive\, Appin\, New South Wales\, 2560\, Australia
CATEGORIES:Cub Events,Major Events
END:VEVENT
END:VCALENDAR